BEGIN:VCALENDAR
VERSION:2.0
PRODID:-//Sweetwater Marina &amp; Riverdeck - ECPv6.15.20//NONSGML v1.0//EN
CALSCALE:GREGORIAN
METHOD:PUBLISH
X-WR-CALNAME:Sweetwater Marina &amp; Riverdeck
X-ORIGINAL-URL:https://sweetwaterriverdeck.com
X-WR-CALDESC:Events for Sweetwater Marina &amp; Riverdeck
REFRESH-INTERVAL;VALUE=DURATION:PT1H
X-Robots-Tag:noindex
X-PUBLISHED-TTL:PT1H
BEGIN:VTIMEZONE
TZID:America/New_York
BEGIN:DAYLIGHT
TZOFFSETFROM:-0500
TZOFFSETTO:-0400
TZNAME:EDT
DTSTART:20250309T070000
END:DAYLIGHT
BEGIN:STANDARD
TZOFFSETFROM:-0400
TZOFFSETTO:-0500
TZNAME:EST
DTSTART:20251102T060000
END:STANDARD
BEGIN:DAYLIGHT
TZOFFSETFROM:-0500
TZOFFSETTO:-0400
TZNAME:EDT
DTSTART:20260308T070000
END:DAYLIGHT
BEGIN:STANDARD
TZOFFSETFROM:-0400
TZOFFSETTO:-0500
TZNAME:EST
DTSTART:20261101T060000
END:STANDARD
BEGIN:DAYLIGHT
TZOFFSETFROM:-0500
TZOFFSETTO:-0400
TZNAME:EDT
DTSTART:20270314T070000
END:DAYLIGHT
BEGIN:STANDARD
TZOFFSETFROM:-0400
TZOFFSETTO:-0500
TZNAME:EST
DTSTART:20271107T060000
END:STANDARD
END:VTIMEZONE
BEGIN:VEVENT
DTSTART;TZID=America/New_York:20260424T180000
DTEND;TZID=America/New_York:20260424T220000
DTSTAMP:20260424T025325
CREATED:20260304T000915Z
LAST-MODIFIED:20260304T000915Z
UID:101727-1777053600-1777068000@sweetwaterriverdeck.com
SUMMARY:Triple Rail Turn
DESCRIPTION:$10 cover for anyone on property at or after 5pm
URL:https://sweetwaterriverdeck.com/event/triple-rail-turn-10/
END:VEVENT
BEGIN:VEVENT
DTSTART;TZID=America/New_York:20260425T130000
DTEND;TZID=America/New_York:20260425T170000
DTSTAMP:20260424T025325
CREATED:20260304T000930Z
LAST-MODIFIED:20260304T000930Z
UID:101728-1777122000-1777136400@sweetwaterriverdeck.com
SUMMARY:Ready To Go
DESCRIPTION:
URL:https://sweetwaterriverdeck.com/event/ready-to-go/
END:VEVENT
BEGIN:VEVENT
DTSTART;TZID=America/New_York:20260426T130000
DTEND;TZID=America/New_York:20260426T170000
DTSTAMP:20260424T025325
CREATED:20260304T000930Z
LAST-MODIFIED:20260304T000930Z
UID:101729-1777208400-1777222800@sweetwaterriverdeck.com
SUMMARY:King Richard
DESCRIPTION:
URL:https://sweetwaterriverdeck.com/event/king-richard-4/
END:VEVENT
END:VCALENDAR